BEGIN:VCALENDAR
VERSION:2.0
PRODID:-//Neusser Jägerkorps - ECPv6.15.20//NONSGML v1.0//EN
CALSCALE:GREGORIAN
METHOD:PUBLISH
X-WR-CALNAME:Neusser Jägerkorps
X-ORIGINAL-URL:https://neusser-jaegerkorps.de
X-WR-CALDESC:Veranstaltungen für Neusser Jägerkorps
REFRESH-INTERVAL;VALUE=DURATION:PT1H
X-Robots-Tag:noindex
X-PUBLISHED-TTL:PT1H
BEGIN:VTIMEZONE
TZID:Europe/Berlin
BEGIN:DAYLIGHT
TZOFFSETFROM:+0100
TZOFFSETTO:+0200
TZNAME:CEST
DTSTART:20250330T010000
END:DAYLIGHT
BEGIN:STANDARD
TZOFFSETFROM:+0200
TZOFFSETTO:+0100
TZNAME:CET
DTSTART:20251026T010000
END:STANDARD
BEGIN:DAYLIGHT
TZOFFSETFROM:+0100
TZOFFSETTO:+0200
TZNAME:CEST
DTSTART:20260329T010000
END:DAYLIGHT
BEGIN:STANDARD
TZOFFSETFROM:+0200
TZOFFSETTO:+0100
TZNAME:CET
DTSTART:20261025T010000
END:STANDARD
BEGIN:DAYLIGHT
TZOFFSETFROM:+0100
TZOFFSETTO:+0200
TZNAME:CEST
DTSTART:20270328T010000
END:DAYLIGHT
BEGIN:STANDARD
TZOFFSETFROM:+0200
TZOFFSETTO:+0100
TZNAME:CET
DTSTART:20271031T010000
END:STANDARD
END:VTIMEZONE
BEGIN:VEVENT
DTSTART;TZID=Europe/Berlin:20260718T180000
DTEND;TZID=Europe/Berlin:20260718T220000
DTSTAMP:20260423T110658
CREATED:20251015T050511Z
LAST-MODIFIED:20251015T050511Z
UID:3438-1784397600-1784412000@neusser-jaegerkorps.de
SUMMARY:Bürgerversammlung
DESCRIPTION:
URL:https://neusser-jaegerkorps.de/event/buergerversammlung-6/
LOCATION:Stadthalle Neuss\, Selikumer Straße 25\, Neuss\, 41460\, Deutschland
END:VEVENT
BEGIN:VEVENT
DTSTART;TZID=Europe/Berlin:20260719T103000
DTEND;TZID=Europe/Berlin:20260719T140000
DTSTAMP:20260423T110658
CREATED:20251015T050606Z
LAST-MODIFIED:20251015T050606Z
UID:3440-1784457000-1784469600@neusser-jaegerkorps.de
SUMMARY:Große Festversammlung
DESCRIPTION:
URL:https://neusser-jaegerkorps.de/event/grosse-festversammlung-7/
LOCATION:Stadthalle Neuss\, Selikumer Straße 25\, Neuss\, 41460\, Deutschland
END:VEVENT
END:VCALENDAR