BEGIN:VCALENDAR
VERSION:2.0
PRODID:-//Neusser Jägerkorps - ECPv6.15.20//NONSGML v1.0//EN
CALSCALE:GREGORIAN
METHOD:PUBLISH
X-WR-CALNAME:Neusser Jägerkorps
X-ORIGINAL-URL:https://neusser-jaegerkorps.de
X-WR-CALDESC:Veranstaltungen für Neusser Jägerkorps
REFRESH-INTERVAL;VALUE=DURATION:PT1H
X-Robots-Tag:noindex
X-PUBLISHED-TTL:PT1H
BEGIN:VTIMEZONE
TZID:Europe/Berlin
BEGIN:DAYLIGHT
TZOFFSETFROM:+0100
TZOFFSETTO:+0200
TZNAME:CEST
DTSTART:20250330T010000
END:DAYLIGHT
BEGIN:STANDARD
TZOFFSETFROM:+0200
TZOFFSETTO:+0100
TZNAME:CET
DTSTART:20251026T010000
END:STANDARD
BEGIN:DAYLIGHT
TZOFFSETFROM:+0100
TZOFFSETTO:+0200
TZNAME:CEST
DTSTART:20260329T010000
END:DAYLIGHT
BEGIN:STANDARD
TZOFFSETFROM:+0200
TZOFFSETTO:+0100
TZNAME:CET
DTSTART:20261025T010000
END:STANDARD
BEGIN:DAYLIGHT
TZOFFSETFROM:+0100
TZOFFSETTO:+0200
TZNAME:CEST
DTSTART:20270328T010000
END:DAYLIGHT
BEGIN:STANDARD
TZOFFSETFROM:+0200
TZOFFSETTO:+0100
TZNAME:CET
DTSTART:20271031T010000
END:STANDARD
END:VTIMEZONE
BEGIN:VEVENT
DTSTART;TZID=Europe/Berlin:20260503T103000
DTEND;TZID=Europe/Berlin:20260503T170000
DTSTAMP:20260421T174410
CREATED:20251015T050219Z
LAST-MODIFIED:20260420T045207Z
UID:3431-1777804200-1777827600@neusser-jaegerkorps.de
SUMMARY:333 iger Spiel verschoben auf unbegrenzte Zeit
DESCRIPTION:
URL:https://neusser-jaegerkorps.de/event/333-iger-spiel/
LOCATION:Gare du Neuss\, Karl-Arnold-Straße 3-5\, Neuss\, Nordrhein-Westfalen\, 41462\, Germany
END:VEVENT
BEGIN:VEVENT
DTSTART;TZID=Europe/Berlin:20260509T100000
DTEND;TZID=Europe/Berlin:20260509T170000
DTSTAMP:20260421T174410
CREATED:20251015T050319Z
LAST-MODIFIED:20251015T050319Z
UID:3434-1778320800-1778346000@neusser-jaegerkorps.de
SUMMARY:Korpsschiessen
DESCRIPTION:
URL:https://neusser-jaegerkorps.de/event/korpsschiessen-8/
LOCATION:Schießstand SSV Neuss e.V.
END:VEVENT
END:VCALENDAR