BEGIN:VCALENDAR
VERSION:2.0
PRODID:-//Neusser Jägerkorps - ECPv6.15.20//NONSGML v1.0//EN
CALSCALE:GREGORIAN
METHOD:PUBLISH
X-WR-CALNAME:Neusser Jägerkorps
X-ORIGINAL-URL:https://neusser-jaegerkorps.de
X-WR-CALDESC:Veranstaltungen für Neusser Jägerkorps
REFRESH-INTERVAL;VALUE=DURATION:PT1H
X-Robots-Tag:noindex
X-PUBLISHED-TTL:PT1H
BEGIN:VTIMEZONE
TZID:Europe/Berlin
BEGIN:DAYLIGHT
TZOFFSETFROM:+0100
TZOFFSETTO:+0200
TZNAME:CEST
DTSTART:20250330T010000
END:DAYLIGHT
BEGIN:STANDARD
TZOFFSETFROM:+0200
TZOFFSETTO:+0100
TZNAME:CET
DTSTART:20251026T010000
END:STANDARD
BEGIN:DAYLIGHT
TZOFFSETFROM:+0100
TZOFFSETTO:+0200
TZNAME:CEST
DTSTART:20260329T010000
END:DAYLIGHT
BEGIN:STANDARD
TZOFFSETFROM:+0200
TZOFFSETTO:+0100
TZNAME:CET
DTSTART:20261025T010000
END:STANDARD
BEGIN:DAYLIGHT
TZOFFSETFROM:+0100
TZOFFSETTO:+0200
TZNAME:CEST
DTSTART:20270328T010000
END:DAYLIGHT
BEGIN:STANDARD
TZOFFSETFROM:+0200
TZOFFSETTO:+0100
TZNAME:CET
DTSTART:20271031T010000
END:STANDARD
END:VTIMEZONE
BEGIN:VEVENT
DTSTART;TZID=Europe/Berlin:20260315T100000
DTEND;TZID=Europe/Berlin:20260315T103000
DTSTAMP:20260421T174410
CREATED:20251015T045707Z
LAST-MODIFIED:20251015T045707Z
UID:3426-1773568800-1773570600@neusser-jaegerkorps.de
SUMMARY:Treffen der Fackelbauer
DESCRIPTION:
URL:https://neusser-jaegerkorps.de/event/treffen-der-fackelbauer-6/
LOCATION:Marienhaus\, Kapitelstraße 36\, Neuss\, 41460\, Deutschland
END:VEVENT
BEGIN:VEVENT
DTSTART;TZID=Europe/Berlin:20260315T103000
DTEND;TZID=Europe/Berlin:20260315T130000
DTSTAMP:20260421T174410
CREATED:20251015T045557Z
LAST-MODIFIED:20251015T045557Z
UID:3424-1773570600-1773579600@neusser-jaegerkorps.de
SUMMARY:Chargiertenversammlung
DESCRIPTION:
URL:https://neusser-jaegerkorps.de/event/chargiertenversammlung-19/
LOCATION:Marienhaus\, Kapitelstraße 36\, Neuss\, 41460\, Deutschland
END:VEVENT
END:VCALENDAR