BEGIN:VCALENDAR
VERSION:2.0
PRODID:-//Neusser Jägerkorps - ECPv6.15.20//NONSGML v1.0//EN
CALSCALE:GREGORIAN
METHOD:PUBLISH
X-ORIGINAL-URL:https://neusser-jaegerkorps.de
X-WR-CALDESC:Veranstaltungen für Neusser Jägerkorps
REFRESH-INTERVAL;VALUE=DURATION:PT1H
X-Robots-Tag:noindex
X-PUBLISHED-TTL:PT1H
BEGIN:VTIMEZONE
TZID:Europe/Berlin
BEGIN:DAYLIGHT
TZOFFSETFROM:+0100
TZOFFSETTO:+0200
TZNAME:CEST
DTSTART:20250330T010000
END:DAYLIGHT
BEGIN:STANDARD
TZOFFSETFROM:+0200
TZOFFSETTO:+0100
TZNAME:CET
DTSTART:20251026T010000
END:STANDARD
BEGIN:DAYLIGHT
TZOFFSETFROM:+0100
TZOFFSETTO:+0200
TZNAME:CEST
DTSTART:20260329T010000
END:DAYLIGHT
BEGIN:STANDARD
TZOFFSETFROM:+0200
TZOFFSETTO:+0100
TZNAME:CET
DTSTART:20261025T010000
END:STANDARD
BEGIN:DAYLIGHT
TZOFFSETFROM:+0100
TZOFFSETTO:+0200
TZNAME:CEST
DTSTART:20270328T010000
END:DAYLIGHT
BEGIN:STANDARD
TZOFFSETFROM:+0200
TZOFFSETTO:+0100
TZNAME:CET
DTSTART:20271031T010000
END:STANDARD
END:VTIMEZONE
BEGIN:VEVENT
DTSTART;VALUE=DATE:20260829
DTEND;VALUE=DATE:20260902
DTSTAMP:20260423T184023
CREATED:20251015T051025Z
LAST-MODIFIED:20251015T051025Z
UID:3450-1787961600-1788307199@neusser-jaegerkorps.de
SUMMARY:Schützenfest
DESCRIPTION:
URL:https://neusser-jaegerkorps.de/event/schuetzenfest-5/
END:VEVENT
BEGIN:VEVENT
DTSTART;TZID=Europe/Berlin:20260905T170000
DTEND;TZID=Europe/Berlin:20260905T220000
DTSTAMP:20260423T184023
CREATED:20251015T051126Z
LAST-MODIFIED:20251015T051126Z
UID:3452-1788627600-1788645600@neusser-jaegerkorps.de
SUMMARY:Krönungszug / Grün-Weiße Stunde
DESCRIPTION:
URL:https://neusser-jaegerkorps.de/event/kroenungszug-gruen-weisse-stunde/
LOCATION:Im neuen Marienbildchen
END:VEVENT
BEGIN:VEVENT
DTSTART;VALUE=DATE:20260925
DTEND;VALUE=DATE:20260928
DTSTAMP:20260423T184023
CREATED:20260420T045547Z
LAST-MODIFIED:20260420T045547Z
UID:3543-1790294400-1790553599@neusser-jaegerkorps.de
SUMMARY:68. Rheinischer Schützentag
DESCRIPTION:Plakat
URL:https://neusser-jaegerkorps.de/event/68-rheinischer-schuetzentag/
END:VEVENT
BEGIN:VEVENT
DTSTART;VALUE=DATE:20261003
DTEND;VALUE=DATE:20261004
DTSTAMP:20260423T184023
CREATED:20260209T064928Z
LAST-MODIFIED:20260209T064928Z
UID:3521-1790985600-1791071999@neusser-jaegerkorps.de
SUMMARY:LAGA Schützentag
DESCRIPTION:
URL:https://neusser-jaegerkorps.de/event/laga-schuetzentag/
END:VEVENT
BEGIN:VEVENT
DTSTART;TZID=Europe/Berlin:20261004T103000
DTEND;TZID=Europe/Berlin:20261004T130000
DTSTAMP:20260423T184023
CREATED:20251015T051210Z
LAST-MODIFIED:20251015T051210Z
UID:3454-1791109800-1791118800@neusser-jaegerkorps.de
SUMMARY:Chargiertenversammlung
DESCRIPTION:
URL:https://neusser-jaegerkorps.de/event/chargiertenversammlung-21/
LOCATION:Marienhaus\, Kapitelstraße 36\, Neuss\, 41460\, Deutschland
END:VEVENT
BEGIN:VEVENT
DTSTART;TZID=Europe/Berlin:20261204T200000
DTEND;TZID=Europe/Berlin:20261204T223000
DTSTAMP:20260423T184023
CREATED:20251015T051342Z
LAST-MODIFIED:20251126T174159Z
UID:3456-1796414400-1796423400@neusser-jaegerkorps.de
SUMMARY:Jahreshauptversammlung
DESCRIPTION:Einlass 19.00 Uhr
URL:https://neusser-jaegerkorps.de/event/jahreshauptversammlung-6/
LOCATION:Marienhaus\, Kapitelstraße 36\, Neuss\, 41460\, Deutschland
END:VEVENT
END:VCALENDAR